BEGIN:VCALENDAR
VERSION:2.0
PRODID:-//Dynamo Events - ECPv4.6.25//NONSGML v1.0//EN
CALSCALE:GREGORIAN
METHOD:PUBLISH
X-WR-CALNAME:Dynamo Events
X-ORIGINAL-URL:https://www.dynamoevents.co.nz
X-WR-CALDESC:Events for Dynamo Events
BEGIN:VEVENT
DTSTART;VALUE=DATE:20190310
DTEND;VALUE=DATE:20190311
DTSTAMP:20181221T195441
CREATED:20180806T012759Z
LAST-MODIFIED:20181119T224620Z
UID:24948-1552176000-1552262399@www.dynamoevents.co.nz
SUMMARY:Ruapehu Gran Fondo 2019
DESCRIPTION:[vc_row][vc_column][vc_single_image image=”24955″ img_size=”full” alignment=”center” css=”.vc_custom_1533512034201{padding-bottom: 2em !important;}”][vc_column_text] \nNew Zealand’s very own Mountain Top Finish! Are you up for it?\nThe Ruapehu Grand Fondo is an epic 164km long ride with over 2800m of climbing! This ride is not for the faint hearted.\nThis is your chance to join the select few cyclists who have previously raced to the Top of the Bruce. \nThe start and finish will be the Whakapapa Ski field car park at the top of the “Bruce Road” Whakapapa Village is on the lower slopes of the western side of Mount Ruapehu. Whakapapa Village marks the base of the Bruce road and the gateway to the Whakapapa ski field. \nThe ascent is 13 km long. Over this distance\, the elevation gain is 959m with an average gradient of 7.37% but with some very steep section (17 & 21%) along the way\, at the finish you will reach 1\,619m (5311ft) above sea level. The Bruce Road is one of the highest roads in the country. \nWhy would you not want to take on this epic challenge![/vc_column_text][/vc_column][/vc_row] \n
URL:https://www.dynamoevents.co.nz/event/ruapehu-gran-fondo-2019/
CATEGORIES:Ruapehu Gran Fondo
ATTACH;FMTTYPE=image/jpeg:https://www.dynamoevents.co.nz/wp-content/uploads/2018/08/Dynamo-Events-Ruapehu-Gran-Fondo-Feature.jpg
END:VEVENT
END:VCALENDAR