BEGIN:VCALENDAR
VERSION:2.0
PRODID:-//Dynamo Events - ECPv4.6.25//NONSGML v1.0//EN
CALSCALE:GREGORIAN
METHOD:PUBLISH
X-WR-CALNAME:Dynamo Events
X-ORIGINAL-URL:https://www.dynamoevents.co.nz
X-WR-CALDESC:Events for Dynamo Events
BEGIN:VEVENT
DTSTART;VALUE=DATE:20190126
DTEND;VALUE=DATE:20190127
DTSTAMP:20181221T193009
CREATED:20180828T234339Z
LAST-MODIFIED:20181205T211321Z
UID:26281-1548460800-1548547199@www.dynamoevents.co.nz
SUMMARY:Hobbiton Movie Set Gran Fondo
DESCRIPTION:[vc_row][vc_column][vc_single_image image=”26282″ img_size=”full” alignment=”center”][vc_column_text] \nHobbiton Movie Set Gran Fondo\n[/vc_column_text][vc_separator][vc_message]Terms and conditions for all entrants can be read here[/vc_message][vc_column_text]Looking for a challenge to kick start your year\, then make sure you join us on Saturday 26th January 2019.  The Hobbiton Movie Set Gran Fondo marks the return of an iconic mass participation cycling event featuring the picturesque surroundings of the Home of Champions.  Come and experience what the UCI 2.2 riders will be facing during the Queen Stage of the 2019 New Zealand Cycle Classic Tour. \nWith three distance options to select from we have something to suit all abilities\, ages and levels of riders. \nYou can race\, ride with family or friends or just set out to achieve your own personal best\, no matter what your reason for joining us we look forward to celebrating your success at the finish line of the inaugural Hobbiton Movie Set Gran Fondo Cycling Event.[/vc_column_text][/vc_column][/vc_row] \n
URL:https://www.dynamoevents.co.nz/event/hobbiton-movie-set-gran-fondo/
CATEGORIES:Hobbiton Movie Set Gran Fondo
ATTACH;FMTTYPE=image/jpeg:https://www.dynamoevents.co.nz/wp-content/uploads/2018/08/Dynamo-Events-Hobbiton-Gran-Fondo-Feature.jpg
END:VEVENT
BEGIN:VEVENT
DTSTART;VALUE=DATE:20190203
DTEND;VALUE=DATE:20190204
DTSTAMP:20181221T193009
CREATED:20180511T020132Z
LAST-MODIFIED:20181209T203733Z
UID:20999-1549152000-1549238399@www.dynamoevents.co.nz
SUMMARY:The Team Championship 2018-19 - Race 5 - Tokoroa
DESCRIPTION:[vc_row][vc_column][vc_single_image image=”28443″ img_size=”full” alignment=”center”][vc_column_text] \nThe Grassroots Trust Team Championship 2018-19 – Race 5 – Tokoroa\n[/vc_column_text][vc_separator][vc_column_text] \nIs your Team up to it?\n  \nThe goal of the series is to provide a competitive team’s racing series where you compete in a grade that suits your ability – not your age\, have fun with your team mates and race in a safe and friendly environment. \nA six round Team based series with different grades to suit all levels\, the series offers a challenge to all competitive cyclists. Whether you’re an elite rider\, up and coming junior\, veteran competitor or just a keen weekend warrior there is a grade for you. The Team Championship gives you the opportunity to create a team with work mates\, friends\, other club riders or whoever else you may want to include. \nThe generous support of the South Waikato District Council has guaranteed Tokoroa 2 races in the series. \nDates for the upcoming Team Championship season: \n\nRace 1: Sunday 23rd September 2018\nRace 2: Sunday 14th October 2018\nRace 3: Sunday 18th November 2018\nRace 4: Sunday 9th December 2018\nRace 5: Sunday 3rd February 2019\nRace 6: Sunday 10th February 2019\n\n[/vc_column_text][/vc_column][/vc_row] \n
URL:https://www.dynamoevents.co.nz/event/the-team-championship-2018-19-race-5-tokoroa/
LOCATION:South Waikato Sports and Events Centre\,\, Mossop Road\, \, Tokoroa\, Waikato\,\, New Zealand
CATEGORIES:The Team Championship
ATTACH;FMTTYPE=image/jpeg:https://www.dynamoevents.co.nz/wp-content/uploads/2018/05/Dynamo-Events-The-Team-Championship-Race-5-Feature.jpg
END:VEVENT
BEGIN:VEVENT
DTSTART;VALUE=DATE:20190210
DTEND;VALUE=DATE:20190211
DTSTAMP:20181221T193009
CREATED:20180511T020132Z
LAST-MODIFIED:20181209T203805Z
UID:21001-1549756800-1549843199@www.dynamoevents.co.nz
SUMMARY:The Team Championship 2018-19 - Race 6 - Tamahere
DESCRIPTION:[vc_row][vc_column][vc_single_image image=”28443″ img_size=”full” alignment=”center”][vc_column_text] \nThe Grassroots Trust Team Championship 2018-19 – Race 6 – Tamahere\n[/vc_column_text][vc_separator][vc_column_text] \nIs your Team up to it?\n  \nThe goal of the series is to provide a competitive team’s racing series where you compete in a grade that suits your ability – not your age\, have fun with your team mates and race in a safe and friendly environment. \nA six round Team based series with different grades to suit all levels\, the series offers a challenge to all competitive cyclists. Whether you’re an elite rider\, up and coming junior\, veteran competitor or just a keen weekend warrior there is a grade for you. The Team Championship gives you the opportunity to create a team with work mates\, friends\, other club riders or whoever else you may want to include. \nThe generous support of the South Waikato District Council has guaranteed Tokoroa 2 races in the series. \nDates for the upcoming Team Championship season: \n\nRace 1: Sunday 23rd September 2018\nRace 2: Sunday 14th October 2018\nRace 3: Sunday 18th November 2018\nRace 4: Sunday 9th December 2018\nRace 5: Sunday 3rd February 2019\nRace 6: Sunday 10th February 2019\n\n[/vc_column_text][/vc_column][/vc_row] \n
URL:https://www.dynamoevents.co.nz/event/the-team-championship-2018-19-race-6-tamahere/
LOCATION:Tamahere School\,\, Devine Road\, Tamahere\, Hamilton\, Waikato\,\, New Zealand
CATEGORIES:The Team Championship
ATTACH;FMTTYPE=image/jpeg:https://www.dynamoevents.co.nz/wp-content/uploads/2018/05/Dynamo-Events-The-Team-Championship-Race-6-Feature.jpg
END:VEVENT
BEGIN:VEVENT
DTSTART;VALUE=DATE:20190310
DTEND;VALUE=DATE:20190311
DTSTAMP:20181221T193009
CREATED:20180806T012759Z
LAST-MODIFIED:20181119T224620Z
UID:24948-1552176000-1552262399@www.dynamoevents.co.nz
SUMMARY:Ruapehu Gran Fondo 2019
DESCRIPTION:[vc_row][vc_column][vc_single_image image=”24955″ img_size=”full” alignment=”center” css=”.vc_custom_1533512034201{padding-bottom: 2em !important;}”][vc_column_text] \nNew Zealand’s very own Mountain Top Finish! Are you up for it?\nThe Ruapehu Grand Fondo is an epic 164km long ride with over 2800m of climbing! This ride is not for the faint hearted.\nThis is your chance to join the select few cyclists who have previously raced to the Top of the Bruce. \nThe start and finish will be the Whakapapa Ski field car park at the top of the “Bruce Road” Whakapapa Village is on the lower slopes of the western side of Mount Ruapehu. Whakapapa Village marks the base of the Bruce road and the gateway to the Whakapapa ski field. \nThe ascent is 13 km long. Over this distance\, the elevation gain is 959m with an average gradient of 7.37% but with some very steep section (17 & 21%) along the way\, at the finish you will reach 1\,619m (5311ft) above sea level. The Bruce Road is one of the highest roads in the country. \nWhy would you not want to take on this epic challenge![/vc_column_text][/vc_column][/vc_row] \n
URL:https://www.dynamoevents.co.nz/event/ruapehu-gran-fondo-2019/
CATEGORIES:Ruapehu Gran Fondo
ATTACH;FMTTYPE=image/jpeg:https://www.dynamoevents.co.nz/wp-content/uploads/2018/08/Dynamo-Events-Ruapehu-Gran-Fondo-Feature.jpg
END:VEVENT
BEGIN:VEVENT
DTSTART;VALUE=DATE:20190321
DTEND;VALUE=DATE:20190325
DTSTAMP:20181221T193009
CREATED:20180427T020707Z
LAST-MODIFIED:20181203T002104Z
UID:20061-1553126400-1553471999@www.dynamoevents.co.nz
SUMMARY:BDO Tour of Northland 2019
DESCRIPTION:[vc_row][vc_column][vc_single_image image=”3280″ img_size=”full” alignment=”center” css=”.vc_custom_1524793981291{padding-bottom: 2em !important;}”][vc_column_text] \nDiscover the North!\n2019 will be the 19th edition of the Northland Event after 2001 saw a keen group of riders take part in the very successful inaugural event. \n2019 will see us go the reverse direction again (Same as 2017/18) \nThe event will follow Northland’s fully sealed Twin Coast Discovery Highway which touches New Zealand’s essence: unsurpassed nature estate\, scenery\, fishing\, diving\, walks\, culture and heritage\, golf\, food\, wine and people. \nYou will discover New Zealand in a nutshell. A must for participants from both within New Zealand and overseas\, the event takes in both the East Coast and West Coast of Northland. \nAll abilities are welcome to participate – elite riders\, competitive masters\, weekend warriors\, cycling tourists\, and social or corporate groups – this is a fun few days with a great bunch.[/vc_column_text][/vc_column][/vc_row] \n
URL:https://www.dynamoevents.co.nz/event/bdo-tour-of-northland-2019/
CATEGORIES:BDO Tour of Northland
ATTACH;FMTTYPE=image/jpeg:https://www.dynamoevents.co.nz/wp-content/uploads/2015/07/BDO_Tour_of_Northland_feature.jpg
END:VEVENT
END:VCALENDAR